BEGIN:VCALENDAR
VERSION:2.0
PRODID:-//Knights of St Columba - ECPv6.15.18//NONSGML v1.0//EN
CALSCALE:GREGORIAN
METHOD:PUBLISH
X-WR-CALNAME:Knights of St Columba
X-ORIGINAL-URL:https://ksc.org.uk
X-WR-CALDESC:Events for Knights of St Columba
REFRESH-INTERVAL;VALUE=DURATION:PT1H
X-Robots-Tag:noindex
X-PUBLISHED-TTL:PT1H
BEGIN:VTIMEZONE
TZID:Europe/London
BEGIN:DAYLIGHT
TZOFFSETFROM:+0000
TZOFFSETTO:+0100
TZNAME:BST
DTSTART:20210328T010000
END:DAYLIGHT
BEGIN:STANDARD
TZOFFSETFROM:+0100
TZOFFSETTO:+0000
TZNAME:GMT
DTSTART:20211031T010000
END:STANDARD
BEGIN:DAYLIGHT
TZOFFSETFROM:+0000
TZOFFSETTO:+0100
TZNAME:BST
DTSTART:20220327T010000
END:DAYLIGHT
BEGIN:STANDARD
TZOFFSETFROM:+0100
TZOFFSETTO:+0000
TZNAME:GMT
DTSTART:20221030T010000
END:STANDARD
BEGIN:DAYLIGHT
TZOFFSETFROM:+0000
TZOFFSETTO:+0100
TZNAME:BST
DTSTART:20230326T010000
END:DAYLIGHT
BEGIN:STANDARD
TZOFFSETFROM:+0100
TZOFFSETTO:+0000
TZNAME:GMT
DTSTART:20231029T010000
END:STANDARD
END:VTIMEZONE
BEGIN:VEVENT
DTSTART;VALUE=DATE:20220726
DTEND;VALUE=DATE:20220727
DTSTAMP:20260424T174914
CREATED:20220726T085512Z
LAST-MODIFIED:20220726T092745Z
UID:3570-1658793600-1658879999@ksc.org.uk
SUMMARY:Mercy Bus Salford
DESCRIPTION:KSC Mercy Bus Group\nWe have been going around the central belt of Scotland for the last 5 years and now are coming to visit our friends in England. If you wish any further information\, please contact Helen Border at Please come along and visit our Mercy Bus. Venue addresses and dates. \nTuesday 26th July – TESCO\, Pendleton Way\, Salford\, M6 5JG
URL:https://ksc.org.uk/event/mercy-bus-salford/
LOCATION:Pendleton Way\, Salford\, M6 5JG\, Tesco\, Pendleton Way\, Salford\, Manchester\, M6 5JG\, United Kingdom
CATEGORIES:MIssion
END:VEVENT
END:VCALENDAR