BEGIN:VCALENDAR
VERSION:2.0
PRODID:-//Knights of St Columba - ECPv6.15.18//NONSGML v1.0//EN
CALSCALE:GREGORIAN
METHOD:PUBLISH
X-ORIGINAL-URL:https://ksc.org.uk
X-WR-CALDESC:Events for Knights of St Columba
REFRESH-INTERVAL;VALUE=DURATION:PT1H
X-Robots-Tag:noindex
X-PUBLISHED-TTL:PT1H
BEGIN:VTIMEZONE
TZID:Europe/London
BEGIN:DAYLIGHT
TZOFFSETFROM:+0000
TZOFFSETTO:+0100
TZNAME:BST
DTSTART:20210328T010000
END:DAYLIGHT
BEGIN:STANDARD
TZOFFSETFROM:+0100
TZOFFSETTO:+0000
TZNAME:GMT
DTSTART:20211031T010000
END:STANDARD
BEGIN:DAYLIGHT
TZOFFSETFROM:+0000
TZOFFSETTO:+0100
TZNAME:BST
DTSTART:20220327T010000
END:DAYLIGHT
BEGIN:STANDARD
TZOFFSETFROM:+0100
TZOFFSETTO:+0000
TZNAME:GMT
DTSTART:20221030T010000
END:STANDARD
BEGIN:DAYLIGHT
TZOFFSETFROM:+0000
TZOFFSETTO:+0100
TZNAME:BST
DTSTART:20230326T010000
END:DAYLIGHT
BEGIN:STANDARD
TZOFFSETFROM:+0100
TZOFFSETTO:+0000
TZNAME:GMT
DTSTART:20231029T010000
END:STANDARD
END:VTIMEZONE
BEGIN:VEVENT
DTSTART;VALUE=DATE:20220730
DTEND;VALUE=DATE:20220731
DTSTAMP:20260424T175012
CREATED:20220726T090736Z
LAST-MODIFIED:20220726T092208Z
UID:3582-1659139200-1659225599@ksc.org.uk
SUMMARY:Mercy Bus Liverpool
DESCRIPTION:We have been going around the central belt of Scotland for the last 5 years and now are coming to visit our friends in England. If you wish any further information\, please contact Helen Border at Please come along and visit our Mercy Bus. Venue addresses and dates. \nSaturday 30th July – St Helens Catholic Church\, Alexandra Road\, Crosby\, Liverpool\, L23 7TQ. \nKSC Mercy Bus Group
URL:https://ksc.org.uk/event/mercy-bus-liverpool/
LOCATION:St Helens Catholic Church\, Alexandra Road\, Crosby\, Liverpool\, L23 7TQ.
CATEGORIES:MIssion
ATTACH;FMTTYPE=image/jpeg:https://ksc.org.uk/wp-content/uploads/2022/07/Mercy-Bus-Group.jpg
END:VEVENT
END:VCALENDAR