BEGIN:VCALENDAR
VERSION:2.0
PRODID:-//Knights of St Columba - ECPv6.15.18//NONSGML v1.0//EN
CALSCALE:GREGORIAN
METHOD:PUBLISH
X-ORIGINAL-URL:https://ksc.org.uk
X-WR-CALDESC:Events for Knights of St Columba
REFRESH-INTERVAL;VALUE=DURATION:PT1H
X-Robots-Tag:noindex
X-PUBLISHED-TTL:PT1H
BEGIN:VTIMEZONE
TZID:Europe/London
BEGIN:DAYLIGHT
TZOFFSETFROM:+0000
TZOFFSETTO:+0100
TZNAME:BST
DTSTART:20210328T010000
END:DAYLIGHT
BEGIN:STANDARD
TZOFFSETFROM:+0100
TZOFFSETTO:+0000
TZNAME:GMT
DTSTART:20211031T010000
END:STANDARD
BEGIN:DAYLIGHT
TZOFFSETFROM:+0000
TZOFFSETTO:+0100
TZNAME:BST
DTSTART:20220327T010000
END:DAYLIGHT
BEGIN:STANDARD
TZOFFSETFROM:+0100
TZOFFSETTO:+0000
TZNAME:GMT
DTSTART:20221030T010000
END:STANDARD
BEGIN:DAYLIGHT
TZOFFSETFROM:+0000
TZOFFSETTO:+0100
TZNAME:BST
DTSTART:20230326T010000
END:DAYLIGHT
BEGIN:STANDARD
TZOFFSETFROM:+0100
TZOFFSETTO:+0000
TZNAME:GMT
DTSTART:20231029T010000
END:STANDARD
END:VTIMEZONE
BEGIN:VEVENT
DTSTART;TZID=Europe/London:20220902T080000
DTEND;TZID=Europe/London:20220904T170000
DTSTAMP:20260424T144105
CREATED:20220630T222043Z
LAST-MODIFIED:20220630T222043Z
UID:3211-1662105600-1662310800@ksc.org.uk
SUMMARY:CSN  Leadership Course London
DESCRIPTION:CSN  Leadership Course London 2nd to 4th September
URL:https://ksc.org.uk/event/csn-leadership-course-london/
LOCATION:london
CATEGORIES:MIssion
END:VEVENT
BEGIN:VEVENT
DTSTART;VALUE=DATE:20220904
DTEND;VALUE=DATE:20220905
DTSTAMP:20260424T144105
CREATED:20220630T222748Z
LAST-MODIFIED:20220812T162620Z
UID:3215-1662249600-1662335999@ksc.org.uk
SUMMARY:KSC National Pilgrimage  to Carfin\, Scotland
DESCRIPTION:KSC National Pilgrimage  to Carfin 4th September
URL:https://ksc.org.uk/event/ksc-national-pilgrimage-to-carfin-scotland/
LOCATION:St Francis Xavier’s Church Taylor Avenue Carfin ML1 5AJ\, St Francis Xavier's Church\, Taylor Avenue\, scotland\, ML1 5AJ\, United Kingdom
END:VEVENT
END:VCALENDAR