BEGIN:VCALENDAR
VERSION:2.0
PRODID:-//Knights of St Columba - ECPv6.15.18//NONSGML v1.0//EN
CALSCALE:GREGORIAN
METHOD:PUBLISH
X-ORIGINAL-URL:https://ksc.org.uk
X-WR-CALDESC:Events for Knights of St Columba
REFRESH-INTERVAL;VALUE=DURATION:PT1H
X-Robots-Tag:noindex
X-PUBLISHED-TTL:PT1H
BEGIN:VTIMEZONE
TZID:Europe/London
BEGIN:DAYLIGHT
TZOFFSETFROM:+0000
TZOFFSETTO:+0100
TZNAME:BST
DTSTART:20210328T010000
END:DAYLIGHT
BEGIN:STANDARD
TZOFFSETFROM:+0100
TZOFFSETTO:+0000
TZNAME:GMT
DTSTART:20211031T010000
END:STANDARD
BEGIN:DAYLIGHT
TZOFFSETFROM:+0000
TZOFFSETTO:+0100
TZNAME:BST
DTSTART:20220327T010000
END:DAYLIGHT
BEGIN:STANDARD
TZOFFSETFROM:+0100
TZOFFSETTO:+0000
TZNAME:GMT
DTSTART:20221030T010000
END:STANDARD
BEGIN:DAYLIGHT
TZOFFSETFROM:+0000
TZOFFSETTO:+0100
TZNAME:BST
DTSTART:20230326T010000
END:DAYLIGHT
BEGIN:STANDARD
TZOFFSETFROM:+0100
TZOFFSETTO:+0000
TZNAME:GMT
DTSTART:20231029T010000
END:STANDARD
END:VTIMEZONE
BEGIN:VEVENT
DTSTART;TZID=Europe/London:20221120T110000
DTEND;TZID=Europe/London:20221120T120000
DTSTAMP:20260424T112430
CREATED:20221027T193545Z
LAST-MODIFIED:20221027T193545Z
UID:4319-1668942000-1668945600@ksc.org.uk
SUMMARY:Leeds Provincial 5 Memorial Mass
DESCRIPTION:Provincial Memorial Mass for Province 5 Leeds will take place on Sunday November 20th 2022\, at 11.00am at St Anne’s Cathedral\, Leeds.
URL:https://ksc.org.uk/event/leeds-provincial-5-memorial-mass/
END:VEVENT
BEGIN:VEVENT
DTSTART;TZID=Europe/London:20221120T120000
DTEND;TZID=Europe/London:20221120T130000
DTSTAMP:20260424T112431
CREATED:20220909T112654Z
LAST-MODIFIED:20220909T112857Z
UID:3708-1668945600-1668949200@ksc.org.uk
SUMMARY:Westminster Provinces Deceased Brothers Mass
DESCRIPTION:Mass for Deceased Brothers for Westminster Provinces. \nWestminster Cathedral on Sunday the 20th November 2022 at 12 noon. \n  \nEveryone is welcome.
URL:https://ksc.org.uk/event/westminster-provinces-deceased-brothers-mass/
ATTACH;FMTTYPE=image/jpeg:https://ksc.org.uk/wp-content/uploads/2022/09/Westminister-Cathdral-KSC-Deceased-Brothers-Mass.jpg
END:VEVENT
END:VCALENDAR