BEGIN:VCALENDAR
VERSION:2.0
PRODID:-//Knights of St Columba - ECPv6.15.18//NONSGML v1.0//EN
CALSCALE:GREGORIAN
METHOD:PUBLISH
X-WR-CALNAME:Knights of St Columba
X-ORIGINAL-URL:https://ksc.org.uk
X-WR-CALDESC:Events for Knights of St Columba
REFRESH-INTERVAL;VALUE=DURATION:PT1H
X-Robots-Tag:noindex
X-PUBLISHED-TTL:PT1H
BEGIN:VTIMEZONE
TZID:Europe/London
BEGIN:DAYLIGHT
TZOFFSETFROM:+0000
TZOFFSETTO:+0100
TZNAME:BST
DTSTART:20210328T010000
END:DAYLIGHT
BEGIN:STANDARD
TZOFFSETFROM:+0100
TZOFFSETTO:+0000
TZNAME:GMT
DTSTART:20211031T010000
END:STANDARD
BEGIN:DAYLIGHT
TZOFFSETFROM:+0000
TZOFFSETTO:+0100
TZNAME:BST
DTSTART:20220327T010000
END:DAYLIGHT
BEGIN:STANDARD
TZOFFSETFROM:+0100
TZOFFSETTO:+0000
TZNAME:GMT
DTSTART:20221030T010000
END:STANDARD
BEGIN:DAYLIGHT
TZOFFSETFROM:+0000
TZOFFSETTO:+0100
TZNAME:BST
DTSTART:20230326T010000
END:DAYLIGHT
BEGIN:STANDARD
TZOFFSETFROM:+0100
TZOFFSETTO:+0000
TZNAME:GMT
DTSTART:20231029T010000
END:STANDARD
END:VTIMEZONE
BEGIN:VEVENT
DTSTART;TZID=Europe/London:20221123T190000
DTEND;TZID=Europe/London:20221123T200000
DTSTAMP:20260424T112324
CREATED:20221010T142053Z
LAST-MODIFIED:20221010T142053Z
UID:4022-1669230000-1669233600@ksc.org.uk
SUMMARY:Province 3 Deceased Brothers and families Mass
DESCRIPTION:Province 3 Mass for Deceased Brothers and their families will take place on Wednesday 23rd November \nSt. Mungo’s RC Church. Mar Street\, Alloa at 7.00pm. \nFr. Paul Le  (Provincial Chaplain) is the main celebrant. \nTea/Coffee is in the church hall afterwards.
URL:https://ksc.org.uk/event/province-3-deceased-brothers-and-families-mass/
END:VEVENT
END:VCALENDAR