BEGIN:VCALENDAR
VERSION:2.0
PRODID:-//Knights of St Columba - ECPv6.15.18//NONSGML v1.0//EN
CALSCALE:GREGORIAN
METHOD:PUBLISH
X-ORIGINAL-URL:https://ksc.org.uk
X-WR-CALDESC:Events for Knights of St Columba
REFRESH-INTERVAL;VALUE=DURATION:PT1H
X-Robots-Tag:noindex
X-PUBLISHED-TTL:PT1H
BEGIN:VTIMEZONE
TZID:Europe/London
BEGIN:DAYLIGHT
TZOFFSETFROM:+0000
TZOFFSETTO:+0100
TZNAME:BST
DTSTART:20220327T010000
END:DAYLIGHT
BEGIN:STANDARD
TZOFFSETFROM:+0100
TZOFFSETTO:+0000
TZNAME:GMT
DTSTART:20221030T010000
END:STANDARD
BEGIN:DAYLIGHT
TZOFFSETFROM:+0000
TZOFFSETTO:+0100
TZNAME:BST
DTSTART:20230326T010000
END:DAYLIGHT
BEGIN:STANDARD
TZOFFSETFROM:+0100
TZOFFSETTO:+0000
TZNAME:GMT
DTSTART:20231029T010000
END:STANDARD
BEGIN:DAYLIGHT
TZOFFSETFROM:+0000
TZOFFSETTO:+0100
TZNAME:BST
DTSTART:20240331T010000
END:DAYLIGHT
BEGIN:STANDARD
TZOFFSETFROM:+0100
TZOFFSETTO:+0000
TZNAME:GMT
DTSTART:20241027T010000
END:STANDARD
BEGIN:DAYLIGHT
TZOFFSETFROM:+0000
TZOFFSETTO:+0100
TZNAME:BST
DTSTART:20250330T010000
END:DAYLIGHT
BEGIN:STANDARD
TZOFFSETFROM:+0100
TZOFFSETTO:+0000
TZNAME:GMT
DTSTART:20251026T010000
END:STANDARD
BEGIN:DAYLIGHT
TZOFFSETFROM:+0000
TZOFFSETTO:+0100
TZNAME:BST
DTSTART:20260329T010000
END:DAYLIGHT
BEGIN:STANDARD
TZOFFSETFROM:+0100
TZOFFSETTO:+0000
TZNAME:GMT
DTSTART:20261025T010000
END:STANDARD
BEGIN:DAYLIGHT
TZOFFSETFROM:+0000
TZOFFSETTO:+0100
TZNAME:BST
DTSTART:20270328T010000
END:DAYLIGHT
BEGIN:STANDARD
TZOFFSETFROM:+0100
TZOFFSETTO:+0000
TZNAME:GMT
DTSTART:20271031T010000
END:STANDARD
END:VTIMEZONE
BEGIN:VEVENT
DTSTART;TZID=Europe/London:20230604T080000
DTEND;TZID=Europe/London:20230604T170000
DTSTAMP:20260423T233952
CREATED:20230520T151044Z
LAST-MODIFIED:20230520T151044Z
UID:4694-1685865600-1685898000@ksc.org.uk
SUMMARY:Mass for Province 29 - Sunday June 4th
DESCRIPTION:Mass for Province 29 – Sunday June 4th \nSt Monicas\, Palmers Green N13 4DH. \nChief celebrant Bishop John Sherrington \nfollowed by a buffet reception – which everyone is welcome to attend \nContact: Deputy Grand Knight\, Louis Appiah (mobile 07484134848) for more details \n 
URL:https://ksc.org.uk/event/mass-for-province-29-sunday-june-4th/
END:VEVENT
BEGIN:VEVENT
DTSTART;TZID=Europe/London:20260331T193000
DTEND;TZID=Europe/London:20260331T203000
DTSTAMP:20260423T233952
CREATED:20260330T234745Z
LAST-MODIFIED:20260330T234748Z
UID:6820-1774985400-1774989000@ksc.org.uk
SUMMARY:KSC Stations of the Cross
DESCRIPTION:Topic: Stations of the Cross Holy Week\nTime: Mar 31\, 2026 07:30 PM London\nJoin Zoom Meeting\nhttps://us06web.zoom.us/j/88989798053?pwd=CHV0DTU16mXVAIYOdPJIMbxNqBfizG.1\nView meeting insights with Zoom AI Companion\nhttps://us06web.zoom.us/launch/edl?muid=0ef6c2fd-5aeb-479c-a10e-915a638b96fd
URL:https://ksc.org.uk/event/ksc-stations-of-the-cross/
LOCATION:https://us06web.zoom.us/j/88989798053?pwd=CHV0DTU16mXVAIYOdPJIMbxNqBfizG.1
END:VEVENT
END:VCALENDAR