BEGIN:VCALENDAR
VERSION:2.0
PRODID:-//Knights of St Columba - ECPv6.15.18//NONSGML v1.0//EN
CALSCALE:GREGORIAN
METHOD:PUBLISH
X-WR-CALNAME:Knights of St Columba
X-ORIGINAL-URL:https://ksc.org.uk
X-WR-CALDESC:Events for Knights of St Columba
REFRESH-INTERVAL;VALUE=DURATION:PT1H
X-Robots-Tag:noindex
X-PUBLISHED-TTL:PT1H
BEGIN:VTIMEZONE
TZID:Europe/London
BEGIN:DAYLIGHT
TZOFFSETFROM:+0000
TZOFFSETTO:+0100
TZNAME:BST
DTSTART:20210328T010000
END:DAYLIGHT
BEGIN:STANDARD
TZOFFSETFROM:+0100
TZOFFSETTO:+0000
TZNAME:GMT
DTSTART:20211031T010000
END:STANDARD
BEGIN:DAYLIGHT
TZOFFSETFROM:+0000
TZOFFSETTO:+0100
TZNAME:BST
DTSTART:20220327T010000
END:DAYLIGHT
BEGIN:STANDARD
TZOFFSETFROM:+0100
TZOFFSETTO:+0000
TZNAME:GMT
DTSTART:20221030T010000
END:STANDARD
BEGIN:DAYLIGHT
TZOFFSETFROM:+0000
TZOFFSETTO:+0100
TZNAME:BST
DTSTART:20230326T010000
END:DAYLIGHT
BEGIN:STANDARD
TZOFFSETFROM:+0100
TZOFFSETTO:+0000
TZNAME:GMT
DTSTART:20231029T010000
END:STANDARD
END:VTIMEZONE
BEGIN:VEVENT
DTSTART;VALUE=DATE:20221001
DTEND;VALUE=DATE:20221002
DTSTAMP:20260424T112235
CREATED:20220630T223123Z
LAST-MODIFIED:20220630T223123Z
UID:3219-1664582400-1664668799@ksc.org.uk
SUMMARY:100th Anniversary of Carfin Grotto
DESCRIPTION:100th Anniversary of Carfin Grotto 1st October
URL:https://ksc.org.uk/event/100th-anniversary-of-carfin-grotto/
CATEGORIES:MIssion
END:VEVENT
BEGIN:VEVENT
DTSTART;VALUE=DATE:20221001
DTEND;VALUE=DATE:20221003
DTSTAMP:20260424T112235
CREATED:20220812T154450Z
LAST-MODIFIED:20220812T162041Z
UID:3642-1664582400-1664755199@ksc.org.uk
SUMMARY:SK Diary Carfin 100 Anniversary Mass
DESCRIPTION:October 1st  2nd  2022 Carfin 100 anniversary Mass
URL:https://ksc.org.uk/event/supreme-knight-diary-carfin-100-anniversary-mass/
END:VEVENT
BEGIN:VEVENT
DTSTART;TZID=Europe/London:20221003T190000
DTEND;TZID=Europe/London:20221003T200000
DTSTAMP:20260424T112235
CREATED:20220923T203922Z
LAST-MODIFIED:20220923T203922Z
UID:3806-1664823600-1664827200@ksc.org.uk
SUMMARY:October Rosaries week 1
DESCRIPTION:During the month of October\, we will once again hold our Rosaries for the Unborn each week. They will be on these dates: \n\n\n1st week – Monday 3rd October @ 7pm
URL:https://ksc.org.uk/event/october-rosaries-week-1/
END:VEVENT
BEGIN:VEVENT
DTSTART;VALUE=DATE:20221007
DTEND;VALUE=DATE:20221010
DTSTAMP:20260424T112235
CREATED:20220630T223637Z
LAST-MODIFIED:20220630T223637Z
UID:3221-1665100800-1665359999@ksc.org.uk
SUMMARY:99th KSC Supreme Council Jersey
DESCRIPTION:99th KSC Supreme Council Jersey \nSupreme Council 2022 (Jersey) \nRadisson Blu Waterfront Hotel\, Jersey \n7th – 9th October 2022 \nCome and join us as we celebrate the Supreme Banquet with an array of guests from across the UK and Ireland. For further information please contact Head Office
URL:https://ksc.org.uk/event/99th-ksc-supreme-council-jersey/
END:VEVENT
BEGIN:VEVENT
DTSTART;TZID=Europe/London:20221013T190000
DTEND;TZID=Europe/London:20221013T200000
DTSTAMP:20260424T112235
CREATED:20220923T203755Z
LAST-MODIFIED:20220923T204015Z
UID:3804-1665687600-1665691200@ksc.org.uk
SUMMARY:October Rosaries week 2
DESCRIPTION:During the month of October\, we will once again hold our Rosaries for the Unborn each week. They will be on these dates: \n\n\n2nd week – Thursday 13th October @ 7pm
URL:https://ksc.org.uk/event/october-rosaries-2022-week-2/
END:VEVENT
BEGIN:VEVENT
DTSTART;VALUE=DATE:20221014
DTEND;VALUE=DATE:20221017
DTSTAMP:20260424T112235
CREATED:20220630T224045Z
LAST-MODIFIED:20220630T225143Z
UID:3224-1665705600-1665964799@ksc.org.uk
SUMMARY:Knights of Columbanus Supreme Council
DESCRIPTION:14th 16th October Knights of Columbanus Supreme Council
URL:https://ksc.org.uk/event/knights-of-columbanus-supreme-council/
CATEGORIES:Supreme Knight
END:VEVENT
BEGIN:VEVENT
DTSTART;TZID=Europe/London:20221015T140000
DTEND;TZID=Europe/London:20221015T170000
DTSTAMP:20260424T112235
CREATED:20220826T184618Z
LAST-MODIFIED:20220826T210856Z
UID:3660-1665842400-1665853200@ksc.org.uk
SUMMARY:Co 23 – Province 3
DESCRIPTION:Council 23 – Province 3 \nCentenary Charter Celebration Mass \nWith a Tour of the Abbey and Light Lunch – Open to all Brothers \nWhere – Santa Maria Abbey\, Nunraw\, East Lothian EH41 4LW \nWhen – Saturday 15th October 2022 at  2PM \nAnyone wishing to attend please contact the Grand Knight of  Council 23 \nJamie Cherrie on \nTel 07828 551125 \nemail: jamiecherrie@yahoo.co.uk
URL:https://ksc.org.uk/event/council-23-province-3/
END:VEVENT
BEGIN:VEVENT
DTSTART;TZID=Europe/London:20221020T190000
DTEND;TZID=Europe/London:20221020T200000
DTSTAMP:20260424T112235
CREATED:20220923T203349Z
LAST-MODIFIED:20220923T203959Z
UID:3799-1666292400-1666296000@ksc.org.uk
SUMMARY:October Rosaries week 3
DESCRIPTION:During the month of October\, we will once again hold our Rosaries for the Unborn each week. They will be on these dates: \n\n\n3rd week – Thursday 20th October @ 7pm
URL:https://ksc.org.uk/event/october-rosaries-2022-3-week/
END:VEVENT
BEGIN:VEVENT
DTSTART;VALUE=DATE:20221022
DTEND;VALUE=DATE:20221023
DTSTAMP:20260424T112235
CREATED:20220812T154758Z
LAST-MODIFIED:20220812T162454Z
UID:3644-1666396800-1666483199@ksc.org.uk
SUMMARY:SK Diary 100 Anniversary Co 29 Middlesborough
DESCRIPTION:October 22st 100 Anniversary Council 29 Middlesborough
URL:https://ksc.org.uk/event/supreme-knight-diary-100-anniversary-co-29-middlesborough/
CATEGORIES:Supreme Knight
END:VEVENT
BEGIN:VEVENT
DTSTART;VALUE=DATE:20221023
DTEND;VALUE=DATE:20221024
DTSTAMP:20260424T112235
CREATED:20220812T155144Z
LAST-MODIFIED:20220812T162006Z
UID:3646-1666483200-1666569599@ksc.org.uk
SUMMARY:SK Diary Aylesford Priory\, Kent
DESCRIPTION:Supreme Knight visit to Aylesford Priory\, Kent.
URL:https://ksc.org.uk/event/supreme-knight-diary-aylesford-priory-kent/
END:VEVENT
BEGIN:VEVENT
DTSTART;TZID=Europe/London:20221027T190000
DTEND;TZID=Europe/London:20221027T200000
DTSTAMP:20260424T112235
CREATED:20220923T202548Z
LAST-MODIFIED:20220923T203946Z
UID:3792-1666897200-1666900800@ksc.org.uk
SUMMARY:October Rosaries week 4
DESCRIPTION:During the month of October\, we will once again hold our Rosaries for the Unborn each week. They will be on these dates: \n\n\n4th week – Thursday 27th October @ 7pm – \nThis date coincides with the 55th Anniversary of the Abortion Act.
URL:https://ksc.org.uk/event/ksc-october-rosaries-2022/
END:VEVENT
END:VCALENDAR